BEGIN:VCALENDAR
PRODID:Debreceni Programok
VERSION:2.0
CALSCALE:GREGORIAN
BEGIN:VEVENT
UID:bbda037eb163fb845b6239662ea1e49a
DTSTAMP:20260421T122930Z
SUMMARY:Alakformáló Aerobik
DTSTART;TZID=Europe/Budapest:20260119T173000
DTEND;TZID=Europe/Budapest:20261231T235900
LOCATION:Debrecen város
GEO:47.532300;21.621700
X-APPLE-STRUCTURED-LOCATION;VALUE=URI;X-ADDRESS=Debrecen város;X-APPLE-RAD
 IUS=49;X-TITLE=:geo:47.532300,21.621700
END:VEVENT
END:VCALENDAR
