BEGIN:VCALENDAR
PRODID:Debreceni Programok
VERSION:2.0
CALSCALE:GREGORIAN
BEGIN:VEVENT
UID:73ae911d9b0ead761033b41ccf744a3c
DTSTAMP:20260424T173808Z
SUMMARY:Vissza a természetbe - Majális a Meggyes Csárdánál
DTSTART;TZID=Europe/Budapest:20260501T100000
DTEND;TZID=Europe/Budapest:20260501T140000
LOCATION:Meggyes Csárda
GEO:47.579600;21.000100
X-APPLE-STRUCTURED-LOCATION;VALUE=URI;X-ADDRESS=Meggyes Csárda;X-APPLE-RAD
 IUS=49;X-TITLE=:geo:47.579600,21.000100
END:VEVENT
END:VCALENDAR
