BEGIN:VCALENDAR
PRODID:Debreceni Programok
VERSION:2.0
CALSCALE:GREGORIAN
BEGIN:VEVENT
UID:a4003ffb5f887c9fb91b5f9825340631
DTSTAMP:20260424T173936Z
SUMMARY:Gulyásverseny - Hortobágy
DTSTART;TZID=Europe/Budapest:20260523T110000
DTEND;TZID=Europe/Budapest:20260523T160000
LOCATION:Pusztai Állatpark
GEO:47.573500;21.143900
X-APPLE-STRUCTURED-LOCATION;VALUE=URI;X-ADDRESS=Pusztai Állatpark;X-APPLE-
 RADIUS=49;X-TITLE=:geo:47.573500,21.143900
END:VEVENT
END:VCALENDAR
