BEGIN:VCALENDAR
PRODID:Debreceni Programok
VERSION:2.0
CALSCALE:GREGORIAN
BEGIN:VEVENT
UID:b09ac11de0577175b1a55cae380b13f3
DTSTAMP:20260424T145326Z
SUMMARY: 🍸 GIN KÓSTOLÓ & GIN TONIC WORKSHOP 🍸
DTSTART;TZID=Europe/Budapest:20260521T180000
DTEND;TZID=Europe/Budapest:20260521T210000
LOCATION:D-Skybar
GEO:47.533700;21.624700
X-APPLE-STRUCTURED-LOCATION;VALUE=URI;X-ADDRESS=D-Skybar;X-APPLE-RADIUS=49;
 X-TITLE=:geo:47.533700,21.624700
END:VEVENT
END:VCALENDAR
