BEGIN:VCALENDAR
PRODID:Debreceni Programok
VERSION:2.0
CALSCALE:GREGORIAN
BEGIN:VEVENT
UID:2b419cf936da8f5661ecf0ef9f6c1765
DTSTAMP:20260424T145158Z
SUMMARY:Katalán Est - Ízek útján következő állomása
DTSTART;TZID=Europe/Budapest:20260522T180000
DTEND;TZID=Europe/Budapest:20260522T210000
LOCATION:Hilton Garden Inn Debrecen City Center
END:VEVENT
END:VCALENDAR
