BEGIN:VCALENDAR
PRODID:Debreceni Programok
VERSION:2.0
CALSCALE:GREGORIAN
BEGIN:VEVENT
UID:cdcb2e59b4d8f0a5d44ef21259004fe7
DTSTAMP:20260423T195110Z
SUMMARY:II. REJUNIVA Szenior Sportjátékok és Mozgásfesztivál – 2026
DTSTART;TZID=Europe/Budapest:20260529T140000
DTEND;TZID=Europe/Budapest:20260530T180000
LOCATION:Oláh Gábor utcai Sportkomplexum
GEO:47.549600;21.636200
X-APPLE-STRUCTURED-LOCATION;VALUE=URI;X-ADDRESS=Oláh Gábor utcai Sportkom
 plexum;X-APPLE-RADIUS=49;X-TITLE=:geo:47.549600,21.636200
END:VEVENT
END:VCALENDAR
