BEGIN:VCALENDAR
PRODID:Debreceni Programok
VERSION:2.0
CALSCALE:GREGORIAN
BEGIN:VEVENT
UID:6b56df189d8fb4d4e7b90adc273c9e59
DTSTAMP:20260423T195445Z
SUMMARY:SUP jóga - TÁG Tanuszoda
DTSTART;TZID=Europe/Budapest:20260526T184500
DTEND;TZID=Europe/Budapest:20260526T194500
LOCATION:Tóth Árpád Gimnázium Tanuszoda
GEO:47.526400;21.635200
X-APPLE-STRUCTURED-LOCATION;VALUE=URI;X-ADDRESS=Tóth Árpád Gimnázium Ta
 nuszoda;X-APPLE-RADIUS=49;X-TITLE=:geo:47.526400,21.635200
END:VEVENT
END:VCALENDAR
