BEGIN:VCALENDAR
PRODID:Debreceni Programok
VERSION:2.0
CALSCALE:GREGORIAN
BEGIN:VEVENT
UID:1f399192524d96e3b32026242e37c6da
DTSTAMP:20260423T195405Z
SUMMARY:SUP jóga - TÁG Tanuszoda
DTSTART;TZID=Europe/Budapest:20260519T184500
DTEND;TZID=Europe/Budapest:20260519T194500
LOCATION:Tóth Árpád Gimnázium Tanuszoda
GEO:47.526400;21.635200
X-APPLE-STRUCTURED-LOCATION;VALUE=URI;X-ADDRESS=Tóth Árpád Gimnázium Ta
 nuszoda;X-APPLE-RADIUS=49;X-TITLE=:geo:47.526400,21.635200
END:VEVENT
END:VCALENDAR
