BEGIN:VCALENDAR
PRODID:Debreceni Programok
VERSION:2.0
CALSCALE:GREGORIAN
BEGIN:VEVENT
UID:caff637facd050c78880afb751c1b284
DTSTAMP:20260423T194849Z
SUMMARY:SUP jóga - TÁG Tanuszoda
DTSTART;TZID=Europe/Budapest:20260505T184500
DTEND;TZID=Europe/Budapest:20260505T194500
LOCATION:Tóth Árpád Gimnázium Tanuszoda
GEO:47.526400;21.635200
X-APPLE-STRUCTURED-LOCATION;VALUE=URI;X-ADDRESS=Tóth Árpád Gimnázium Ta
 nuszoda;X-APPLE-RADIUS=49;X-TITLE=:geo:47.526400,21.635200
END:VEVENT
END:VCALENDAR
