BEGIN:VCALENDAR
PRODID:Debreceni Programok
VERSION:2.0
CALSCALE:GREGORIAN
BEGIN:VEVENT
UID:aefaf1a67817998d5053df6b9c0872d6
DTSTAMP:20260424T144746Z
SUMMARY:Női workshop Józsán
DTSTART;TZID=Europe/Budapest:20260428T170000
DTEND;TZID=Europe/Budapest:20260428T190000
LOCATION:Méliusz Józsai Könyvtár
GEO:47.595500;21.579100
X-APPLE-STRUCTURED-LOCATION;VALUE=URI;X-ADDRESS=Méliusz Józsai Könyvtár
 ;X-APPLE-RADIUS=49;X-TITLE=:geo:47.595500,21.579100
END:VEVENT
END:VCALENDAR
