BEGIN:VCALENDAR
PRODID:Debreceni Programok
VERSION:2.0
CALSCALE:GREGORIAN
BEGIN:VEVENT
UID:732683b39aada0c166199afa6d6d2528
DTSTAMP:20260424T145015Z
SUMMARY:Képzeletkert irodalomterápiás foglalkozás 
DTSTART;TZID=Europe/Budapest:20260428T180000
DTEND;TZID=Europe/Budapest:20260428T193000
LOCATION:Méliusz Juhász Péter Könyvtár
GEO:47.542000;21.626100
X-APPLE-STRUCTURED-LOCATION;VALUE=URI;X-ADDRESS=Méliusz Juhász Péter Kö
 nyvtár;X-APPLE-RADIUS=49;X-TITLE=:geo:47.542000,21.626100
END:VEVENT
END:VCALENDAR
