BEGIN:VCALENDAR
PRODID:Debreceni Programok
VERSION:2.0
CALSCALE:GREGORIAN
BEGIN:VEVENT
UID:b562e135902d70297877a0336065c486
DTSTAMP:20260423T195228Z
SUMMARY:Félévzáró Campus Party – VINI
DTSTART;TZID=Europe/Budapest:20260506T220000
DTEND;TZID=Europe/Budapest:20260507T040000
LOCATION:HALL
GEO:47.555200;21.633600
X-APPLE-STRUCTURED-LOCATION;VALUE=URI;X-ADDRESS=HALL;X-APPLE-RADIUS=49;X-TI
 TLE=:geo:47.555200,21.633600
END:VEVENT
END:VCALENDAR
