BEGIN:VCALENDAR
PRODID:Debreceni Programok
VERSION:2.0
CALSCALE:GREGORIAN
BEGIN:VEVENT
UID:fe7894993aa658269f23877816dd62a1
DTSTAMP:20260424T144928Z
SUMMARY:Dr. Zsadányi Edit: Megszólal az alávetett – könyvbemutató
DTSTART;TZID=Europe/Budapest:20260428T170000
DTEND;TZID=Europe/Budapest:20260428T180000
LOCATION:Méliusz Juhász Péter Könyvtár
GEO:47.542000;21.626100
X-APPLE-STRUCTURED-LOCATION;VALUE=URI;X-ADDRESS=Méliusz Juhász Péter Kö
 nyvtár;X-APPLE-RADIUS=49;X-TITLE=:geo:47.542000,21.626100
END:VEVENT
END:VCALENDAR
