BEGIN:VCALENDAR
PRODID:Debreceni Programok
VERSION:2.0
CALSCALE:GREGORIAN
BEGIN:VEVENT
UID:2fe729c0ae801f30427866a74c828056
DTSTAMP:20260424T144912Z
SUMMARY:Tudatos Egészség Estek
DTSTART;TZID=Europe/Budapest:20260427T163000
DTEND;TZID=Europe/Budapest:20260427T173000
LOCATION:Méliusz Újkerti Könyvtár
GEO:47.544400;21.613700
X-APPLE-STRUCTURED-LOCATION;VALUE=URI;X-ADDRESS=Méliusz Újkerti Könyvtá
 r;X-APPLE-RADIUS=49;X-TITLE=:geo:47.544400,21.613700
END:VEVENT
END:VCALENDAR
