BEGIN:VCALENDAR
PRODID:Debreceni Programok
VERSION:2.0
CALSCALE:GREGORIAN
BEGIN:VEVENT
UID:bfc6423b3b9d464f1d699b1474736316
DTSTAMP:20260424T144746Z
SUMMARY:Svéd Társalgási Klub
DTSTART;TZID=Europe/Budapest:20260427T163000
DTEND;TZID=Europe/Budapest:20260427T180000
LOCATION:Méliusz Juhász Péter Könyvtár
GEO:47.542000;21.626100
X-APPLE-STRUCTURED-LOCATION;VALUE=URI;X-ADDRESS=Méliusz Juhász Péter Kö
 nyvtár;X-APPLE-RADIUS=49;X-TITLE=:geo:47.542000,21.626100
END:VEVENT
END:VCALENDAR
