BEGIN:VCALENDAR
PRODID:Debreceni Programok
VERSION:2.0
CALSCALE:GREGORIAN
BEGIN:VEVENT
UID:ab4e032f6ef2bc45d431437712045959
DTSTAMP:20260423T195110Z
SUMMARY:UV COLOR Érettségi After
DTSTART;TZID=Europe/Budapest:20260515T220000
DTEND;TZID=Europe/Budapest:20260516T050000
LOCATION:HALL
GEO:47.555200;21.633600
X-APPLE-STRUCTURED-LOCATION;VALUE=URI;X-ADDRESS=HALL;X-APPLE-RADIUS=49;X-TI
 TLE=:geo:47.555200,21.633600
END:VEVENT
END:VCALENDAR
