BEGIN:VCALENDAR
PRODID:Debreceni Programok
VERSION:2.0
CALSCALE:GREGORIAN
BEGIN:VEVENT
UID:2b59ef3503e7e97e6c42c7b0e76e32e1
DTSTAMP:20260422T122214Z
SUMMARY:HARMÓNIA – Wrábel Erzsébet festőművész kép-plasztikák ki
 állítása
DTSTART;TZID=Europe/Budapest:20260427T100000
DTEND;TZID=Europe/Budapest:20260516T180000
LOCATION:Méliusz Újkerti Könyvtár
GEO:47.544400;21.613700
X-APPLE-STRUCTURED-LOCATION;VALUE=URI;X-ADDRESS=Méliusz Újkerti Könyvtá
 r;X-APPLE-RADIUS=49;X-TITLE=:geo:47.544400,21.613700
END:VEVENT
END:VCALENDAR
