BEGIN:VCALENDAR
PRODID:Debreceni Programok
VERSION:2.0
CALSCALE:GREGORIAN
BEGIN:VEVENT
UID:35731f8143aa4faa0850bf717529425b
DTSTAMP:20260422T114135Z
SUMMARY:BOOKalauz – „Anyák – sorsok\, emlékek\, történetek”
DTSTART;TZID=Europe/Budapest:20260427T100000
DTEND;TZID=Europe/Budapest:20260502T180000
LOCATION:Méliusz Józsai Könyvtár
GEO:47.595500;21.579100
X-APPLE-STRUCTURED-LOCATION;VALUE=URI;X-ADDRESS=Méliusz Józsai Könyvtár
 ;X-APPLE-RADIUS=49;X-TITLE=:geo:47.595500,21.579100
END:VEVENT
END:VCALENDAR
