BEGIN:VCALENDAR
PRODID:Debreceni Programok
VERSION:2.0
CALSCALE:GREGORIAN
BEGIN:VEVENT
UID:bc0d00c2813d1dee030f88df6f85c882
DTSTAMP:20260422T114557Z
SUMMARY:Bagoly-posta
DTSTART;TZID=Europe/Budapest:20260427T100000
DTEND;TZID=Europe/Budapest:20260430T180000
LOCATION:Méliusz Juhász Péter Könyvtár
GEO:47.542000;21.626100
X-APPLE-STRUCTURED-LOCATION;VALUE=URI;X-ADDRESS=Méliusz Juhász Péter Kö
 nyvtár;X-APPLE-RADIUS=49;X-TITLE=:geo:47.542000,21.626100
END:VEVENT
END:VCALENDAR
