BEGIN:VCALENDAR
PRODID:Debreceni Programok
VERSION:2.0
CALSCALE:GREGORIAN
BEGIN:VEVENT
UID:9e116d101df03c147cb1a9549935b154
DTSTAMP:20260422T114612Z
SUMMARY:Varázsige-kvíz
DTSTART;TZID=Europe/Budapest:20260427T100000
DTEND;TZID=Europe/Budapest:20260430T180000
LOCATION:Méliusz Juhász Péter Könyvtár
GEO:47.542000;21.626100
X-APPLE-STRUCTURED-LOCATION;VALUE=URI;X-ADDRESS=Méliusz Juhász Péter Kö
 nyvtár;X-APPLE-RADIUS=49;X-TITLE=:geo:47.542000,21.626100
END:VEVENT
END:VCALENDAR
