BEGIN:VCALENDAR
PRODID:Debreceni Programok
VERSION:2.0
CALSCALE:GREGORIAN
BEGIN:VEVENT
UID:e500935680acd2ceb5aec08c426afe85
DTSTAMP:20260422T114136Z
SUMMARY:Agykontroll Klub
DTSTART;TZID=Europe/Budapest:20260425T160000
DTEND;TZID=Europe/Budapest:20260425T180000
LOCATION:Méliusz Újkerti Könyvtár
GEO:47.544400;21.613700
X-APPLE-STRUCTURED-LOCATION;VALUE=URI;X-ADDRESS=Méliusz Újkerti Könyvtá
 r;X-APPLE-RADIUS=49;X-TITLE=:geo:47.544400,21.613700
END:VEVENT
END:VCALENDAR
