BEGIN:VCALENDAR
PRODID:Debreceni Programok
VERSION:2.0
CALSCALE:GREGORIAN
BEGIN:VEVENT
UID:ce9dd93c619fc28549430f4e704f0e8c
DTSTAMP:20260422T115434Z
SUMMARY:„MENTÁL KLUB – Hogy vagy valójában?”
DTSTART;TZID=Europe/Budapest:20260425T144500
DTEND;TZID=Europe/Budapest:20260425T154500
LOCATION:Méliusz Juhász Péter Könyvtár
GEO:47.542000;21.626100
X-APPLE-STRUCTURED-LOCATION;VALUE=URI;X-ADDRESS=Méliusz Juhász Péter Kö
 nyvtár;X-APPLE-RADIUS=49;X-TITLE=:geo:47.542000,21.626100
END:VEVENT
END:VCALENDAR
