BEGIN:VCALENDAR
PRODID:Debreceni Programok
VERSION:2.0
CALSCALE:GREGORIAN
BEGIN:VEVENT
UID:8054d2a343958d5088d556dfc818369d
DTSTAMP:20260422T115629Z
SUMMARY:MANDALA TÁRSASKÖR
DTSTART;TZID=Europe/Budapest:20260425T140000
DTEND;TZID=Europe/Budapest:20260425T150000
LOCATION:Méliusz Benedek Elek Könyvtár
GEO:47.524700;21.626900
X-APPLE-STRUCTURED-LOCATION;VALUE=URI;X-ADDRESS=Méliusz Benedek Elek Köny
 vtár;X-APPLE-RADIUS=49;X-TITLE=:geo:47.524700,21.626900
END:VEVENT
END:VCALENDAR
