BEGIN:VCALENDAR
PRODID:Debreceni Programok
VERSION:2.0
CALSCALE:GREGORIAN
BEGIN:VEVENT
UID:808d216b9858f7b36d36d32ded076ce1
DTSTAMP:20260422T115130Z
SUMMARY:"Gyertek\, dicsérjük együtt!" – Karakteres dicsőítő estek
DTSTART;TZID=Europe/Budapest:20260429T180000
DTEND;TZID=Europe/Budapest:20260429T190000
LOCATION:Emlékkert
GEO:47.532800;21.624400
X-APPLE-STRUCTURED-LOCATION;VALUE=URI;X-ADDRESS=Emlékkert;X-APPLE-RADIUS=4
 9;X-TITLE=:geo:47.532800,21.624400
END:VEVENT
END:VCALENDAR
