BEGIN:VCALENDAR
PRODID:Debreceni Programok
VERSION:2.0
CALSCALE:GREGORIAN
BEGIN:VEVENT
UID:f22a72c1d55fc6952372880f672bfa48
DTSTAMP:20260422T114428Z
SUMMARY:Veres1 Színház: Az Ackroyd-gyilkosság
DTSTART;TZID=Europe/Budapest:20260527T190000
DTEND;TZID=Europe/Budapest:20260527T220000
LOCATION:VOKE Egyetértés Művelődési Központja
GEO:47.527800;21.649600
X-APPLE-STRUCTURED-LOCATION;VALUE=URI;X-ADDRESS=VOKE Egyetértés Művelőd
 ési Központja;X-APPLE-RADIUS=49;X-TITLE=:geo:47.527800,21.649600
END:VEVENT
END:VCALENDAR
