BEGIN:VCALENDAR
PRODID:Debreceni Programok
VERSION:2.0
CALSCALE:GREGORIAN
BEGIN:VEVENT
UID:95c49b17540f7c6e69b17d34a84af105
DTSTAMP:20260422T114917Z
SUMMARY:Tavaszi Színházi Esték: Körúti Színház: A kaktusz virága
DTSTART;TZID=Europe/Budapest:20260520T190000
DTEND;TZID=Europe/Budapest:20260520T220000
LOCATION:VOKE Egyetértés Művelődési Központja
GEO:47.527800;21.649600
X-APPLE-STRUCTURED-LOCATION;VALUE=URI;X-ADDRESS=VOKE Egyetértés Művelőd
 ési Központja;X-APPLE-RADIUS=49;X-TITLE=:geo:47.527800,21.649600
END:VEVENT
END:VCALENDAR
