BEGIN:VCALENDAR
PRODID:Debreceni Programok
VERSION:2.0
CALSCALE:GREGORIAN
BEGIN:VEVENT
UID:9021722bc48b63be5e8c6e6f8176bbf3
DTSTAMP:20260422T120857Z
SUMMARY:Improvizuál Produkció: Pedagógus munkatársas
DTSTART;TZID=Europe/Budapest:20260518T190000
DTEND;TZID=Europe/Budapest:20260518T203000
LOCATION:VOKE Egyetértés Művelődési Központja
GEO:47.527800;21.649600
X-APPLE-STRUCTURED-LOCATION;VALUE=URI;X-ADDRESS=VOKE Egyetértés Művelőd
 ési Központja;X-APPLE-RADIUS=49;X-TITLE=:geo:47.527800,21.649600
END:VEVENT
END:VCALENDAR
