BEGIN:VCALENDAR
PRODID:Debreceni Programok
VERSION:2.0
CALSCALE:GREGORIAN
BEGIN:VEVENT
UID:d57c7118467950a05d8d6d07a06b7179
DTSTAMP:20260422T114428Z
SUMMARY:Abba show
DTSTART;TZID=Europe/Budapest:20260516T190000
DTEND;TZID=Europe/Budapest:20260516T220000
LOCATION:VOKE Egyetértés Művelődési Központja
GEO:47.527800;21.649600
X-APPLE-STRUCTURED-LOCATION;VALUE=URI;X-ADDRESS=VOKE Egyetértés Művelőd
 ési Központja;X-APPLE-RADIUS=49;X-TITLE=:geo:47.527800,21.649600
END:VEVENT
END:VCALENDAR
