BEGIN:VCALENDAR
PRODID:Debreceni Programok
VERSION:2.0
CALSCALE:GREGORIAN
BEGIN:VEVENT
UID:e0c51ed4e5fe02c6feb84f9a39af68ac
DTSTAMP:20260422T114553Z
SUMMARY:Lemezbörze
DTSTART;TZID=Europe/Budapest:20260516T090000
DTEND;TZID=Europe/Budapest:20260516T130000
LOCATION:VOKE Egyetértés Művelődési Központja
GEO:47.527800;21.649600
X-APPLE-STRUCTURED-LOCATION;VALUE=URI;X-ADDRESS=VOKE Egyetértés Művelőd
 ési Központja;X-APPLE-RADIUS=49;X-TITLE=:geo:47.527800,21.649600
END:VEVENT
END:VCALENDAR
