BEGIN:VCALENDAR
PRODID:Debreceni Programok
VERSION:2.0
CALSCALE:GREGORIAN
BEGIN:VEVENT
UID:f41592f4f086f154a4a316d9e1ed5eb8
DTSTAMP:20260422T113945Z
SUMMARY:Loupe Színházi Társulás: Bármi lehetséges
DTSTART;TZID=Europe/Budapest:20260513T190000
DTEND;TZID=Europe/Budapest:20260513T220000
LOCATION:VOKE Egyetértés Művelődési Központja
GEO:47.527800;21.649600
X-APPLE-STRUCTURED-LOCATION;VALUE=URI;X-ADDRESS=VOKE Egyetértés Művelőd
 ési Központja;X-APPLE-RADIUS=49;X-TITLE=:geo:47.527800,21.649600
END:VEVENT
END:VCALENDAR
