BEGIN:VCALENDAR
PRODID:Debreceni Programok
VERSION:2.0
CALSCALE:GREGORIAN
BEGIN:VEVENT
UID:3f6667111eb5aef781772db373fb6957
DTSTAMP:20260422T122858Z
SUMMARY:Hangjegy Színház: SpanyolHátha (Hőguta)
DTSTART;TZID=Europe/Budapest:20260511T190000
DTEND;TZID=Europe/Budapest:20260511T220000
LOCATION:VOKE Egyetértés Művelődési Központja
GEO:47.527800;21.649600
X-APPLE-STRUCTURED-LOCATION;VALUE=URI;X-ADDRESS=VOKE Egyetértés Művelőd
 ési Központja;X-APPLE-RADIUS=49;X-TITLE=:geo:47.527800,21.649600
END:VEVENT
END:VCALENDAR
