BEGIN:VCALENDAR
PRODID:Debreceni Programok
VERSION:2.0
CALSCALE:GREGORIAN
BEGIN:VEVENT
UID:c473b56bbc90b76f60b94f010cbea810
DTSTAMP:20260422T122230Z
SUMMARY:Hot Jazz Band\, a Nyughatatlan
DTSTART;TZID=Europe/Budapest:20260508T190000
DTEND;TZID=Europe/Budapest:20260508T220000
LOCATION:VOKE Egyetértés Művelődési Központja
GEO:47.527800;21.649600
X-APPLE-STRUCTURED-LOCATION;VALUE=URI;X-ADDRESS=VOKE Egyetértés Művelőd
 ési Központja;X-APPLE-RADIUS=49;X-TITLE=:geo:47.527800,21.649600
END:VEVENT
END:VCALENDAR
