BEGIN:VCALENDAR
PRODID:Debreceni Programok
VERSION:2.0
CALSCALE:GREGORIAN
BEGIN:VEVENT
UID:831d06dba9d98eb4859dd981f275c2d4
DTSTAMP:20260422T114553Z
SUMMARY:Fogi Színház: Frakk\, a macskák réme
DTSTART;TZID=Europe/Budapest:20260502T110000
DTEND;TZID=Europe/Budapest:20260502T115000
LOCATION:VOKE Egyetértés Művelődési Központja
GEO:47.527800;21.649600
X-APPLE-STRUCTURED-LOCATION;VALUE=URI;X-ADDRESS=VOKE Egyetértés Művelőd
 ési Központja;X-APPLE-RADIUS=49;X-TITLE=:geo:47.527800,21.649600
END:VEVENT
END:VCALENDAR
