BEGIN:VCALENDAR
PRODID:Debreceni Programok
VERSION:2.0
CALSCALE:GREGORIAN
BEGIN:VEVENT
UID:36bc54fd5ce8e3191c7cdb08ba92c876
DTSTAMP:20260421T154847Z
SUMMARY:Csodálatos emberi test
DTSTART;TZID=Europe/Budapest:20260502T090000
DTEND;TZID=Europe/Budapest:20260517T180000
LOCATION:Fórum bevásárlóközpont
GEO:47.533700;21.628600
X-APPLE-STRUCTURED-LOCATION;VALUE=URI;X-ADDRESS=Fórum bevásárlóközpont
 ;X-APPLE-RADIUS=49;X-TITLE=:geo:47.533700,21.628600
END:VEVENT
END:VCALENDAR
