BEGIN:VCALENDAR
PRODID:Debreceni Programok
VERSION:2.0
CALSCALE:GREGORIAN
BEGIN:VEVENT
UID:a6edd0534da3459760349c0794357a5a
DTSTAMP:20260421T122958Z
SUMMARY:Veszelinov Ottó – Demeter László: DEBRECEN MADÁRVILÁGA - kö
 nyvbemutató
DTSTART;TZID=Europe/Budapest:20260520T163000
DTEND;TZID=Europe/Budapest:20260520T173000
LOCATION:Déri Múzeum
GEO:47.532800;21.622000
X-APPLE-STRUCTURED-LOCATION;VALUE=URI;X-ADDRESS=Déri Múzeum;X-APPLE-RADIU
 S=49;X-TITLE=:geo:47.532800,21.622000
END:VEVENT
END:VCALENDAR
