BEGIN:VCALENDAR
PRODID:Debreceni Programok
VERSION:2.0
CALSCALE:GREGORIAN
BEGIN:VEVENT
UID:970242f8d26a253f8c85e3aecde7988b
DTSTAMP:20260421T123711Z
SUMMARY:ÉLETRAJZ TÉRKÉPEKRE ÍRVA
DTSTART;TZID=Europe/Budapest:20260507T160000
DTEND;TZID=Europe/Budapest:20260507T170000
LOCATION:Déri Múzeum
GEO:47.532800;21.622000
X-APPLE-STRUCTURED-LOCATION;VALUE=URI;X-ADDRESS=Déri Múzeum;X-APPLE-RADIU
 S=49;X-TITLE=:geo:47.532800,21.622000
END:VEVENT
END:VCALENDAR
