BEGIN:VCALENDAR
PRODID:Debreceni Programok
VERSION:2.0
CALSCALE:GREGORIAN
BEGIN:VEVENT
UID:46f4776d82e29e64201d744e12d280c3
DTSTAMP:20260421T123029Z
SUMMARY:A szépíró olvas - irodalmi beszélgetéssorozat // MÉNES ATTILA
DTSTART;TZID=Europe/Budapest:20260506T180000
DTEND;TZID=Europe/Budapest:20260506T190000
LOCATION:Déri Múzeum
GEO:47.532800;21.622000
X-APPLE-STRUCTURED-LOCATION;VALUE=URI;X-ADDRESS=Déri Múzeum;X-APPLE-RADIU
 S=49;X-TITLE=:geo:47.532800,21.622000
END:VEVENT
END:VCALENDAR
