BEGIN:VCALENDAR
PRODID:Debreceni Programok
VERSION:2.0
CALSCALE:GREGORIAN
BEGIN:VEVENT
UID:f8cb21d2c7aa63db395d0ade72c9050a
DTSTAMP:20260421T122459Z
SUMMARY:Tóth Krisztina író\, költővel Baranyai Norbert irodalomtörté
 nész beszélget
DTSTART;TZID=Europe/Budapest:20260421T180000
DTEND;TZID=Europe/Budapest:20260421T190000
LOCATION:Déri tér
GEO:47.532800;21.622000
X-APPLE-STRUCTURED-LOCATION;VALUE=URI;X-ADDRESS=Déri tér;X-APPLE-RADIUS=4
 9;X-TITLE=:geo:47.532800,21.622000
END:VEVENT
END:VCALENDAR
