BEGIN:VCALENDAR
PRODID:Debreceni Programok
VERSION:2.0
CALSCALE:GREGORIAN
BEGIN:VEVENT
UID:69fa98a70389e75fd53da38fea01e02c
DTSTAMP:20260421T122412Z
SUMMARY:Mind the Body – Gradient Kortárs Balett Debrecen
DTSTART;TZID=Europe/Budapest:20260530T190000
DTEND;TZID=Europe/Budapest:20260530T203000
LOCATION:Csokonai Fórum
GEO:47.532600;21.629200
X-APPLE-STRUCTURED-LOCATION;VALUE=URI;X-ADDRESS=Csokonai Fórum;X-APPLE-RAD
 IUS=49;X-TITLE=:geo:47.532600,21.629200
END:VEVENT
END:VCALENDAR
