BEGIN:VCALENDAR
PRODID:Debreceni Programok
VERSION:2.0
CALSCALE:GREGORIAN
BEGIN:VEVENT
UID:e4692e6a1efd9c77af169859d3950418
DTSTAMP:20260421T122500Z
SUMMARY:Kacsóh Pongrác: János vitéz
DTSTART;TZID=Europe/Budapest:20260529T190000
DTEND;TZID=Europe/Budapest:20260529T220000
LOCATION:Csokonai Nemzeti Színház
GEO:47.529600;21.627300
X-APPLE-STRUCTURED-LOCATION;VALUE=URI;X-ADDRESS=Csokonai Nemzeti Színház;
 X-APPLE-RADIUS=49;X-TITLE=:geo:47.529600,21.627300
END:VEVENT
END:VCALENDAR
