BEGIN:VCALENDAR
PRODID:Debreceni Programok
VERSION:2.0
CALSCALE:GREGORIAN
BEGIN:VEVENT
UID:8aa1352e3821250f734cf7913ce7372b
DTSTAMP:20260421T122423Z
SUMMARY:Kacsóh Pongrác: János vitéz
DTSTART;TZID=Europe/Budapest:20260528T190000
DTEND;TZID=Europe/Budapest:20260528T220000
LOCATION:Csokonai Nemzeti Színház
GEO:47.529600;21.627300
X-APPLE-STRUCTURED-LOCATION;VALUE=URI;X-ADDRESS=Csokonai Nemzeti Színház;
 X-APPLE-RADIUS=49;X-TITLE=:geo:47.529600,21.627300
END:VEVENT
END:VCALENDAR
