BEGIN:VCALENDAR
PRODID:Debreceni Programok
VERSION:2.0
CALSCALE:GREGORIAN
BEGIN:VEVENT
UID:661d5394800da15304d42b51b9c2f740
DTSTAMP:20260421T122206Z
SUMMARY:Dés László – Geszti Péter – Békés Pál: A dzsungel könyv
 e
DTSTART;TZID=Europe/Budapest:20260519T190000
DTEND;TZID=Europe/Budapest:20260519T213000
LOCATION:Csokonai Nemzeti Színház
GEO:47.529600;21.627300
X-APPLE-STRUCTURED-LOCATION;VALUE=URI;X-ADDRESS=Csokonai Nemzeti Színház;
 X-APPLE-RADIUS=49;X-TITLE=:geo:47.529600,21.627300
END:VEVENT
END:VCALENDAR
