BEGIN:VCALENDAR
PRODID:Debreceni Programok
VERSION:2.0
CALSCALE:GREGORIAN
BEGIN:VEVENT
UID:6902bee1977fa28a9259245ca624e98d
DTSTAMP:20260421T122917Z
SUMMARY: Vivaldi-Massenet áriaest – Repka Sára koncertje
DTSTART;TZID=Europe/Budapest:20260509T190000
DTEND;TZID=Europe/Budapest:20260509T200000
LOCATION:Csokonai Fórum
GEO:47.532600;21.629200
X-APPLE-STRUCTURED-LOCATION;VALUE=URI;X-ADDRESS=Csokonai Fórum;X-APPLE-RAD
 IUS=49;X-TITLE=:geo:47.532600,21.629200
END:VEVENT
END:VCALENDAR
