BEGIN:VCALENDAR
PRODID:Debreceni Programok
VERSION:2.0
CALSCALE:GREGORIAN
BEGIN:VEVENT
UID:e900eadef4513944c351d0901faa7508
DTSTAMP:20260425T192511Z
SUMMARY:Dr. Tatai Erzsébet művészettörténész tárlatvezetése a MODEM
  20: Válogatás a MODEM gyűjteményéből című kiállításon
DTSTART;TZID=Europe/Budapest:20260425T160000
DTEND;TZID=Europe/Budapest:20260425T170000
LOCATION:Modem Modern és Kortárs Művészeti Központ
GEO:47.533500;21.621200
X-APPLE-STRUCTURED-LOCATION;VALUE=URI;X-ADDRESS=Modem Modern és Kortárs M
 űvészeti Központ;X-APPLE-RADIUS=49;X-TITLE=:geo:47.533500,21.621200
END:VEVENT
END:VCALENDAR
