BEGIN:VCALENDAR
PRODID:Debreceni Programok
VERSION:2.0
CALSCALE:GREGORIAN
BEGIN:VEVENT
UID:9afa7f9f3adb8425476d5d5a5e9ceaff
DTSTAMP:20260421T091131Z
SUMMARY:Csaknekedkislány\, vendég: Timsel
DTSTART;TZID=Europe/Budapest:20260313T190000
DTEND;TZID=Europe/Budapest:20260313T230000
LOCATION:Klinika Egyetemi Klub
GEO:47.561000;21.629800
X-APPLE-STRUCTURED-LOCATION;VALUE=URI;X-ADDRESS=Klinika Egyetemi Klub;X-APP
 LE-RADIUS=49;X-TITLE=:geo:47.561000,21.629800
END:VEVENT
END:VCALENDAR
